BEGIN:VCALENDAR
VERSION:2.0
PRODID:-//Tukios.com/
BEGIN:VEVENT
UID:c774eeaf-de80-4a99-9604-a4cf451f9c72@www.michelottisawyers.com
DTSTAMP:20260424T031917Z
DTSTART:20260530T210000Z
DTEND:20260530T220000Z
SUMMARY:Memorial Service
DESCRIPTION:
URL:https://www.michelottisawyers.com/obituaries/violet-splitstone
LOCATION:Pentecostals of Cody 5 Nez Perce Dr  Cody WY 82414
GEO:44.5978608;-108.964756
END:VEVENT
END:VCALENDAR