BEGIN:VCALENDAR
VERSION:2.0
PRODID:-//Tukios.com/
BEGIN:VEVENT
UID:c5781304-f2cd-48ac-909b-9fa75fcac39f@www.michelottisawyers.com
DTSTAMP:20260422T023750Z
DTSTART:20260501T170000Z
DTEND:20260501T180000Z
SUMMARY:Memorial Service
DESCRIPTION:
URL:https://www.michelottisawyers.com/obituaries/patrick-curry
LOCATION: 2420 13th Street West  Billings MT 59102
GEO:45.7933924;-108.5500147
END:VEVENT
END:VCALENDAR