BEGIN:VCALENDAR
VERSION:2.0
PRODID:-//Tukios.com/
BEGIN:VEVENT
UID:d533a233-9d43-41cc-8ea2-f4138f0de60c@www.michelottisawyers.com
DTSTAMP:20260423T225227Z
DTSTART:20260511T190000Z
DTEND:20260511T200000Z
SUMMARY:Interment
DESCRIPTION:
URL:https://www.michelottisawyers.com/obituaries/lyle-hansen
LOCATION: 55 Buffalo Trail Road  Laurel MT 59044
GEO:45.6959623;-108.7727231
END:VEVENT
END:VCALENDAR